BEGIN:VCALENDAR
VERSION:2.0
PRODID:-//ARIAP ❘ ONG - ECPv6.8.3//NONSGML v1.0//EN
CALSCALE:GREGORIAN
METHOD:PUBLISH
X-ORIGINAL-URL:https://ariap.org
X-WR-CALDESC:Events for ARIAP ❘ ONG
REFRESH-INTERVAL;VALUE=DURATION:PT1H
X-Robots-Tag:noindex
X-PUBLISHED-TTL:PT1H
BEGIN:VTIMEZONE
TZID:America/Halifax
BEGIN:DAYLIGHT
TZOFFSETFROM:-0400
TZOFFSETTO:-0300
TZNAME:ADT
DTSTART:20240310T060000
END:DAYLIGHT
BEGIN:STANDARD
TZOFFSETFROM:-0300
TZOFFSETTO:-0400
TZNAME:AST
DTSTART:20241103T050000
END:STANDARD
END:VTIMEZONE
BEGIN:VEVENT
DTSTART;TZID=America/Halifax:20240612T090000
DTEND;TZID=America/Halifax:20240615T190000
DTSTAMP:20260421T140336
CREATED:20200914T134650Z
LAST-MODIFIED:20240522T210211Z
UID:3102-1718182800-1718478000@ariap.org
SUMMARY:FOSPA BOLIVIA 2024
DESCRIPTION:El Foro Social Pan Amazónico –FOSPA- es un espacio de articulación\, acción y reflexión relacionadas a la cuenca amazónica que atraviesa Brasil\, Perú\, Bolivia\, Ecuador\, Colombia\, Venezuela\, República Cooperativa de Guyana\, Surinam y Guyana (francesa). \nNos hemos trazado los objetivos de articular agendas de las organizaciones y redes amazónicas y visibilizar las propuestas para la defensa de la Amazonía\, frente al cambio climático y la convivencia intercultural. \nQueremos construir un proceso de movilización\, de debate y propuestas\, y a la vez un gran evento bianual que busca congregar y articular los movimientos sociales\, pueblos indígenas y comunidades tradicionales de los nueve países de la cuenca del Amazonas. \nNuestros objetivos principales son reconocer las culturas; romper el aislamiento de la resistencia popular; el fortalecimiento de la lucha anti-imperialista; desarrollar la autonomía de los pueblos; promover la justicia social y ambiental\, para oponerse a los modelos de “desarrollo” depredadores y perjudiciales para las personas que viven en la Pan Amazonía; así como discutir las alternativas y propuestas que permitan construir la justicia e igualdad social\, sustentada en una democracia participativa e intercultural. \nEn un sentido más amplio\, queremos ser un movimiento que crítica el modelo extractivo-colonial impuesto a las poblaciones amazónicas y levanta la bandera de una región Pan Amazónica gobernada por sus pueblos. \nQueremos mantener y reafirmar al FOSPA como un espacio autónomo e independiente integrado por movimientos\, organizaciones sociales\, representaciones de las personas y comunidades.
URL:https://ariap.org/eventos/fospa-bolivia-2024/
LOCATION:Bolivia\, Rurrenabaque\, General José Ballivián Segurola\, 0000\, Bolivia
CATEGORIES:Internacional
ATTACH;FMTTYPE=image/jpeg:https://ariap.org/wp-content/uploads/2020/09/LOGO-FOSPA-BOLIVIA-2024.jpg
ORGANIZER;CN="Fondo Social Panamaz%C3%B3nico":MAILTO:contacto@forosocialpanamazonico.com
END:VEVENT
END:VCALENDAR