BEGIN:VCALENDAR
VERSION:2.0
PRODID:-//ARIAP ❘ ONG - ECPv6.8.3//NONSGML v1.0//EN
CALSCALE:GREGORIAN
METHOD:PUBLISH
X-ORIGINAL-URL:https://ariap.org
X-WR-CALDESC:Events for ARIAP ❘ ONG
REFRESH-INTERVAL;VALUE=DURATION:PT1H
X-Robots-Tag:noindex
X-PUBLISHED-TTL:PT1H
BEGIN:VTIMEZONE
TZID:America/New_York
BEGIN:DAYLIGHT
TZOFFSETFROM:-0500
TZOFFSETTO:-0400
TZNAME:EDT
DTSTART:20240310T070000
END:DAYLIGHT
BEGIN:STANDARD
TZOFFSETFROM:-0400
TZOFFSETTO:-0500
TZNAME:EST
DTSTART:20241103T060000
END:STANDARD
END:VTIMEZONE
BEGIN:VEVENT
DTSTART;VALUE=DATE:20240722
DTEND;VALUE=DATE:20240727
DTSTAMP:20260420T232853
CREATED:20240710T172129Z
LAST-MODIFIED:20240710T174031Z
UID:5144-1721606400-1722038399@ariap.org
SUMMARY:CONFERENCIA PREVIA INDÍGENA - VIH Y EL SIDA\, ALEMANIA
DESCRIPTION:Bienvenidos a la 10ª Preconferencia Internacional Indígena sobre VIH y SIDA\, una reunión fundamental que tendrá lugar en el vibrante escenario de Múnich\, Alemania\, del 19 al 21 de julio de 2024.\n \nAl reunirnos en esta ciudad de gran riqueza cultural\, emprendemos un viaje para arrojar luz sobre las cuestiones indígenas y celebrar la profunda diversidad de los pueblos indígenas. Nuestra misión es elevar el estatus de los pueblos indígenas como población prioritaria en la respuesta mundial al VIH\, el VHC\, la tuberculosis y las ITS\, abogando por la asignación esencial de fondos específicos. \nAl trabajar de manera colectiva\, nos proponemos desarrollar estrategias basadas en evidencia y específicas para los indígenas que no solo aborden\, sino que también empoderen y eleven a nuestras comunidades. Esta reunión convoca a defensores de la atención médica indígena\, departamentos de salud indígenas\, defensores de la salud y miembros de la comunidad indígena con experiencias vividas de VIH/SIDA/VHC/tuberculosis e ITS\, junto con sus aliados. \nExtendemos una invitación especial a los jóvenes indígenas\, a los ancianos\, a los practicantes tradicionales y a los miembros de las comunidades de todo el mundo\, mientras nos unimos en un compromiso colectivo para promover la salud y el bienestar de los indígenas a escala global. \n¡Únase a nosotros en Munich para una exploración enriquecedora y colaborativa de las perspectivas indígenas en el ámbito del VIH y el SIDA! \nBienvenido a la Décima Preconferencia Internacional Indígena sobre VIH y SIDA\, una reunión fundamental que tendrá lugar en el vibrante telón de fondo de Munich\, Alemania\, del 19 al 21 de julio de 2024. \nAl reunirnos en esta ciudad culturalmente rica\, nos embarcamos en un viaje para iluminar las cuestiones indígenas y celebrar la profunda diversidad de los pueblos indígenas. Nuestra misión es elevar el estatus de los Pueblos Indígenas como población prioritaria en la respuesta global al VIH\, el VHC\, la tuberculosis y las ITS\, abogando por la asignación esencial de fondos específicos. \nAlmirar colectivamente\, nuestro objetivo es desarrollar estrategias específicas para indígenas basadas en evidencia que no solo aborden sino que también empoderen y mejoren a nuestras comunidades. Esta reunión atrae a defensores de la atención médica indígena\, departamentos de salud indígenas\, defensores de la salud y miembros de comunidades indígenas con experiencias vividas de VIH/SIDA/VHC/tuberculosis e ITS\, junto con sus aliados. \nExtendemos una invitación especial a los jóvenes\, ancianos\, practicantes tradicionales y miembros de comunidades indígenas de todo el mundo\, mientras nos unimos en un compromiso colectivo para promover la salud y el bienestar de los indígenas a escala global. \n¡Únase a nosotros en Munich para una exploración enriquecedora y colaborativa de las perspectivas indígenas dentro del ámbito del VIH y el SIDA!
URL:https://ariap.org/eventos/conferencia-previa-indigena-internacional-vih-alemania/
LOCATION:VIH Alemania\, Munich\, Germany
ATTACH;FMTTYPE=image/jpeg:https://ariap.org/wp-content/uploads/2024/07/LOGO-VIH-ALEMANIA-OK.jpg
END:VEVENT
END:VCALENDAR