BEGIN:VCALENDAR
VERSION:2.0
PRODID:-//ARIAP ❘ ONG - ECPv6.8.3//NONSGML v1.0//EN
CALSCALE:GREGORIAN
METHOD:PUBLISH
X-WR-CALNAME:ARIAP ❘ ONG
X-ORIGINAL-URL:https://ariap.org
X-WR-CALDESC:Events for ARIAP ❘ ONG
REFRESH-INTERVAL;VALUE=DURATION:PT1H
X-Robots-Tag:noindex
X-PUBLISHED-TTL:PT1H
BEGIN:VTIMEZONE
TZID:America/New_York
BEGIN:DAYLIGHT
TZOFFSETFROM:-0500
TZOFFSETTO:-0400
TZNAME:EDT
DTSTART:20240310T070000
END:DAYLIGHT
BEGIN:STANDARD
TZOFFSETFROM:-0400
TZOFFSETTO:-0500
TZNAME:EST
DTSTART:20241103T060000
END:STANDARD
BEGIN:DAYLIGHT
TZOFFSETFROM:-0500
TZOFFSETTO:-0400
TZNAME:EDT
DTSTART:20250309T070000
END:DAYLIGHT
BEGIN:STANDARD
TZOFFSETFROM:-0400
TZOFFSETTO:-0500
TZNAME:EST
DTSTART:20251102T060000
END:STANDARD
END:VTIMEZONE
BEGIN:VEVENT
DTSTART;TZID=America/New_York:20240731T080000
DTEND;TZID=America/New_York:20240802T170000
DTSTAMP:20260421T121105
CREATED:20240529T141400Z
LAST-MODIFIED:20240710T195236Z
UID:358-1722412800-1722618000@ariap.org
SUMMARY:XV Congreso Nacional de EIB
DESCRIPTION:El XV Congreso Nacional de Educación Intercultural Bilingüe se realizará del 31 de Julio al 02 de Agosto de 2024 en la ciudad de Abancay. Es organizado por un conjunto de organizaciones y colectivos sociales\, así como por investigadores y maestros de la región Apurímac para promover y fortalecer la educación intercultural bilingüe en nuestro país\, con el protagonismo de los pueblos originarios\, en el tratamiento de la problemática de su cultura y lengua. \nOBJETIVOS ESPECÍFICOS\n• Analizar la implementación de la educación intercultural bilingüe en el país\, y la situación actual de la cultura y lengua de los pueblos originarios. \n• Generar propuestas para la afirmación cultural y lingüística de los pueblos originarios a través de la educación intercultural bilingüe\, y de su propio accionar y movilización. \n• Consolidar una plataforma de acción social\, para la defensa de la educación intercultural bilingüe\, los derechos culturales\, lingüísticos\, sociales y políticos de los pueblos originarios. \n  \n \nPARTICIPANTES: \n* Sabias y sabios de pueblos originarios e indígenas del país. \n* Sabias y sabios de otros pueblos originarios e indígenas de América Latina. \n* Liderazgos de organizaciones sociales de la región Apurímac y de otras regiones. \n* Docentes de pueblos originarios e indígenas del país. \n* Docentes de pueblos originarios e indígenas de América Latina. \n* Autoridades y funcionarios del país. \n* Estudiantes de Educación Intercultural Bilingüe del país. \n* Estudiantes de secundaria de Apurímac y otras regiones. \n* Especialistas en el campo de la cultura de pueblos originarios e indígenas. \n* Activistas de pueblos originarios e indígenas. \n* Artistas de la región Apurímac y de otras regiones. \n* Organizaciones de base territoriales. \n 
URL:https://ariap.org/eventos/xv-congreso-nacional-de-eib/
LOCATION:Abancay\, Abancay\, Apurímac\, 03001\, Peru
CATEGORIES:EVENTOS,Nacional
ATTACH;FMTTYPE=image/jpeg:https://ariap.org/wp-content/uploads/2020/05/PORTADA-EVENTO-CONGRESO-NACIONAL-ABANCAY-.jpg
ORGANIZER;CN="Organizaciones e Instituciones Nacionales":MAILTO:rusbita_reynaga@hotmail.es
END:VEVENT
BEGIN:VEVENT
DTSTART;VALUE=DATE:20250315
DTEND;VALUE=DATE:20250316
DTSTAMP:20260421T121105
CREATED:20250313T205805Z
LAST-MODIFIED:20250313T205948Z
UID:6162-1741996800-1742083199@ariap.org
SUMMARY:Parrillada solidaria por inundaciones.
DESCRIPTION:¡Unidos por una buena causa!\nLas recientes inundaciones han afectado gravemente a muchas familias en nuestra comunidad. Muchas personas han perdido sus hogares\, pertenencias y necesitan nuestra ayuda urgente. Por eso\, ARIAP\, en colaboración con Axenon Ikame\, ha organizado esta Parrillada Solidaria para recaudar fondos y donaciones destinadas a los damnificados. \nCon tu colaboración de S/ 20\, podrás disfrutar de un delicioso plato de parrilla con yuca y crema\, mientras ayudas a quienes más lo necesitan. \n¿Cómo puedes ayudar?\n✅ Asiste al evento: Disfruta de una buena comida y contribuye con la causa.✅ Realiza una donación económica: Si no puedes asistir\, puedes enviar tu colaboración a través de Yape al 972 245 411.✅ Dona víveres y otros productos: También estaremos recibiendo alimentos no perecibles\, ropa y medicinas para distribuirlas a las familias afectadas.✅ Comparte y difunde: Ayúdanos a llegar a más personas compartiendo esta publicación en redes sociales. \n¿Por qué es importante tu apoyo?\nLas inundaciones han dejado a muchas personas sin hogar y en condiciones difíciles. Cada pequeño gesto cuenta. Con lo recaudado\, podremos brindar apoyo en forma de alimentos\, insumos médicos y otras necesidades básicas. \n🎯 Objetivo: Lograr recaudar la mayor cantidad de fondos y donaciones para ayudar a las familias damnificadas. \n🎉 Disfruta y ayuda al mismo tiempoAdemás de la comida\, tendremos un espacio para compartir\, conocer más sobre la situación y unirnos como comunidad. ¡Es una gran oportunidad para demostrar solidaridad y generar un impacto positivo! \n📌 Lugar del evento: Oficina de ARIAP – Jr. Aguaytía #560\, Yarinacocha \n📲 Síguenos en redes sociales para más información:🔹 Facebook \n✨ Juntos podemos marcar la diferencia. ¡Te esperamos! ✨
URL:https://ariap.org/eventos/parrillada-solidaria-por-inundaciones/
LOCATION:Pucallpa\, Jr. Aguaytia #560\, Pucallpa\, Ucayali\, 25004\, Peru
CATEGORIES:EVENTOS,Nacional
ATTACH;FMTTYPE=image/jpeg:https://ariap.org/wp-content/uploads/2025/03/eaef55bb-572a-4247-bae9-ee0ba5f5cff2.jpg
ORGANIZER;CN="ARIAP":MAILTO:contacto@ariap.org
END:VEVENT
END:VCALENDAR